BEGIN:VCALENDAR
VERSION:2.0
PRODID:-//wp-events-plugin.com//7.2.3.1//EN
TZID:America/New_York
X-WR-TIMEZONE:America/New_York
BEGIN:VEVENT
UID:327@derpca.com
DTSTART;TZID=America/New_York:20260509T090000
DTEND;TZID=America/New_York:20260509T110000
DTSTAMP:20260420T194828Z
URL:https://www.derpca.com/events/cars-coffee-tech-session/
SUMMARY:Cars\, Coffee & Tech Session
DESCRIPTION:
CATEGORIES:Driver's Education
LOCATION:Maine Classic Car Museum\, 2564 Portland Rd\, Arundel\, ME\, 04046
 \, United States
X-APPLE-STRUCTURED-LOCATION;VALUE=URI;X-ADDRESS=2564 Portland Rd\, Arundel\
 , ME\, 04046\, United States;X-APPLE-RADIUS=100;X-TITLE=Maine Classic Car 
 Museum:geo:0,0
END:VEVENT
BEGIN:VTIMEZONE
TZID:America/New_York
X-LIC-LOCATION:America/New_York
BEGIN:DAYLIGHT
DTSTART:20260308T030000
TZOFFSETFROM:-0500
TZOFFSETTO:-0400
TZNAME:EDT
END:DAYLIGHT
END:VTIMEZONE
END:VCALENDAR